BEGIN:VCALENDAR
VERSION:2.0
PRODID:-//Independent Accountants Association of Illinois - ECPv6.15.17.1//NONSGML v1.0//EN
CALSCALE:GREGORIAN
METHOD:PUBLISH
X-WR-CALNAME:Independent Accountants Association of Illinois
X-ORIGINAL-URL:https://illinoisaccountants.com
X-WR-CALDESC:Events for Independent Accountants Association of Illinois
REFRESH-INTERVAL;VALUE=DURATION:PT1H
X-Robots-Tag:noindex
X-PUBLISHED-TTL:PT1H
BEGIN:VTIMEZONE
TZID:America/Chicago
BEGIN:DAYLIGHT
TZOFFSETFROM:-0600
TZOFFSETTO:-0500
TZNAME:CDT
DTSTART:20240310T080000
END:DAYLIGHT
BEGIN:STANDARD
TZOFFSETFROM:-0500
TZOFFSETTO:-0600
TZNAME:CST
DTSTART:20241103T070000
END:STANDARD
BEGIN:DAYLIGHT
TZOFFSETFROM:-0600
TZOFFSETTO:-0500
TZNAME:CDT
DTSTART:20250309T080000
END:DAYLIGHT
BEGIN:STANDARD
TZOFFSETFROM:-0500
TZOFFSETTO:-0600
TZNAME:CST
DTSTART:20251102T070000
END:STANDARD
BEGIN:DAYLIGHT
TZOFFSETFROM:-0600
TZOFFSETTO:-0500
TZNAME:CDT
DTSTART:20260308T080000
END:DAYLIGHT
BEGIN:STANDARD
TZOFFSETFROM:-0500
TZOFFSETTO:-0600
TZNAME:CST
DTSTART:20261101T070000
END:STANDARD
END:VTIMEZONE
BEGIN:VEVENT
DTSTART;TZID=America/Chicago:20251023T150000
DTEND;TZID=America/Chicago:20251023T170000
DTSTAMP:20260421T075046
CREATED:20260107T134514Z
LAST-MODIFIED:20260107T134514Z
UID:10001588-1761231600-1761238800@illinoisaccountants.com
SUMMARY:IRA's\, Roth's & Conversions - REBROADCAST
DESCRIPTION:Become an expert in knowledge and practice of retirement investment taxes\, including changes from Secure Act 2.0 legislation with the 2-credit-hour IRA’s\, Roths\, and Conversions course! During this 2-hour course\, attendees will learn strategies and methods for investing in an IRA account\, including the comparisons between different types of retirement accounts and how to withdraw funds from and convert to Roth IRA’s. In addition\, key learning points will cover navigating the life of your client’s IRA funds: where to report rollovers\, deductible and nondeductible IRA’s\, rollovers and transfers\, prohibited transactions and investments\, general tax planning\, and saver’s credit.
URL:https://illinoisaccountants.com/events/iras-roths-conversions-rebroadcast-2/
LOCATION:Zoom
CATEGORIES:CPE Event,Webinar
ORGANIZER;CN="IAAI":MAILTO:illinoisaccountants@gmail.com
END:VEVENT
END:VCALENDAR